BEGIN:VCALENDAR
VERSION:2.0
PRODID:-//FinTech - ECPv4.6.7//NONSGML v1.0//EN
CALSCALE:GREGORIAN
METHOD:PUBLISH
X-ORIGINAL-URL:https://fintechnz.org.nz
X-WR-CALDESC:Events for FinTech
BEGIN:VEVENT
DTSTART;TZID=Pacific/Auckland:20180208T170000
DTEND;TZID=Pacific/Auckland:20180208T190000
DTSTAMP:20180124T102624
CREATED:20171121T184602Z
LAST-MODIFIED:20180119T033454Z
UID:10733-1518109200-1518116400@fintechnz.org.nz
SUMMARY:FinTechNZ Connect Wellington
DESCRIPTION:Join FinTechNZ and fellow members at our summer event series in Wellington\, Christchurch and Auckland.\nOur summer series focuses on Innovation in Finance & Lending with presentations from Financial Services Federation (FSF) and a number of companies in the sector followed by a facilitated panel discussion. Gain insight and learn about what’s going on in payments\, crypto finance as well as InsurTech and take the opportunity to create business connections. \n  \n \n
URL:https://fintechnz.org.nz/event/fintechnz-connect-wellington-feb-18/
CATEGORIES:FinTech
ATTACH;FMTTYPE=image/jpeg:https://fintechnz.org.nz/wp-content/uploads/sites/2/2017/06/FinTech-Logo-Website-e1485897441599.jpg
END:VEVENT
END:VCALENDAR